BEGIN:VCALENDAR
VERSION:2.0
PRODID:-//Love INC of the Yampa Valley - ECPv6.11.2//NONSGML v1.0//EN
CALSCALE:GREGORIAN
METHOD:PUBLISH
X-WR-CALNAME:Love INC of the Yampa Valley
X-ORIGINAL-URL:https://loveincyampavalley.org
X-WR-CALDESC:Events for Love INC of the Yampa Valley
REFRESH-INTERVAL;VALUE=DURATION:PT1H
X-Robots-Tag:noindex
X-PUBLISHED-TTL:PT1H
BEGIN:VTIMEZONE
TZID:America/Denver
BEGIN:DAYLIGHT
TZOFFSETFROM:-0700
TZOFFSETTO:-0600
TZNAME:MDT
DTSTART:20250309T090000
END:DAYLIGHT
BEGIN:STANDARD
TZOFFSETFROM:-0600
TZOFFSETTO:-0700
TZNAME:MST
DTSTART:20251102T080000
END:STANDARD
END:VTIMEZONE
BEGIN:VEVENT
DTSTART;TZID=America/Denver:20250327T190000
DTEND;TZID=America/Denver:20250327T200000
DTSTAMP:20260421T091418
CREATED:20250224T064251Z
LAST-MODIFIED:20250224T064251Z
UID:10000120-1743102000-1743105600@loveincyampavalley.org
SUMMARY:Caring Hearts
DESCRIPTION:Support Group: Suicide Prevention & Depression\n(Passing of a child\, and/or the passing of loved ones\, or if you are going through a hard time) \nCome join us! All are welcome to come\, participate\, share\, or just listen. \nEVERYONE HAS A PURPOSE! \nRefreshments will be provided \nINFORMATION:\nRaimie Hill – caringhands88@hotmail.com (970)-756-1886\nDana Prescott – prescotts@byu.net\nDan Bingham – yampa81625@yahoo.com \nWhen: Every Thursday at 7 PM\nWhere: Church of Jesus Christ of Latter-Day Saints – 1295 W 9th St\, Craig\, CO \nFacebook page: Caring Hearts Support Group\nWebsite: https://sites.google.com/view/caring-hearts-in-craig-co/home
URL:https://loveincyampavalley.org/event/caring-hearts/2025-03-27/
LOCATION:Church of Jesus Christ of Latter-Day Saint\, 1295 W 9th St\, Craig\, CO\, 81625\, United States
ATTACH;FMTTYPE=image/jpeg:https://loveincyampavalley.org/wp-content/uploads/2025/02/LoveINCYampa_Events_1.jpg
END:VEVENT
BEGIN:VEVENT
DTSTART;TZID=America/Denver:20250320T190000
DTEND;TZID=America/Denver:20250320T200000
DTSTAMP:20260421T091418
CREATED:20250224T064251Z
LAST-MODIFIED:20250224T064251Z
UID:10000119-1742497200-1742500800@loveincyampavalley.org
SUMMARY:Caring Hearts
DESCRIPTION:Support Group: Suicide Prevention & Depression\n(Passing of a child\, and/or the passing of loved ones\, or if you are going through a hard time) \nCome join us! All are welcome to come\, participate\, share\, or just listen. \nEVERYONE HAS A PURPOSE! \nRefreshments will be provided \nINFORMATION:\nRaimie Hill – caringhands88@hotmail.com (970)-756-1886\nDana Prescott – prescotts@byu.net\nDan Bingham – yampa81625@yahoo.com \nWhen: Every Thursday at 7 PM\nWhere: Church of Jesus Christ of Latter-Day Saints – 1295 W 9th St\, Craig\, CO \nFacebook page: Caring Hearts Support Group\nWebsite: https://sites.google.com/view/caring-hearts-in-craig-co/home
URL:https://loveincyampavalley.org/event/caring-hearts/2025-03-20/
LOCATION:Church of Jesus Christ of Latter-Day Saint\, 1295 W 9th St\, Craig\, CO\, 81625\, United States
ATTACH;FMTTYPE=image/jpeg:https://loveincyampavalley.org/wp-content/uploads/2025/02/LoveINCYampa_Events_1.jpg
END:VEVENT
BEGIN:VEVENT
DTSTART;TZID=America/Denver:20250313T190000
DTEND;TZID=America/Denver:20250313T200000
DTSTAMP:20260421T091418
CREATED:20250224T064251Z
LAST-MODIFIED:20250224T064251Z
UID:10000118-1741892400-1741896000@loveincyampavalley.org
SUMMARY:Caring Hearts
DESCRIPTION:Support Group: Suicide Prevention & Depression\n(Passing of a child\, and/or the passing of loved ones\, or if you are going through a hard time) \nCome join us! All are welcome to come\, participate\, share\, or just listen. \nEVERYONE HAS A PURPOSE! \nRefreshments will be provided \nINFORMATION:\nRaimie Hill – caringhands88@hotmail.com (970)-756-1886\nDana Prescott – prescotts@byu.net\nDan Bingham – yampa81625@yahoo.com \nWhen: Every Thursday at 7 PM\nWhere: Church of Jesus Christ of Latter-Day Saints – 1295 W 9th St\, Craig\, CO \nFacebook page: Caring Hearts Support Group\nWebsite: https://sites.google.com/view/caring-hearts-in-craig-co/home
URL:https://loveincyampavalley.org/event/caring-hearts/2025-03-13/
LOCATION:Church of Jesus Christ of Latter-Day Saint\, 1295 W 9th St\, Craig\, CO\, 81625\, United States
ATTACH;FMTTYPE=image/jpeg:https://loveincyampavalley.org/wp-content/uploads/2025/02/LoveINCYampa_Events_1.jpg
END:VEVENT
BEGIN:VEVENT
DTSTART;TZID=America/Denver:20250306T190000
DTEND;TZID=America/Denver:20250306T200000
DTSTAMP:20260421T091418
CREATED:20250224T064251Z
LAST-MODIFIED:20250224T064251Z
UID:10000117-1741287600-1741291200@loveincyampavalley.org
SUMMARY:Caring Hearts
DESCRIPTION:Support Group: Suicide Prevention & Depression\n(Passing of a child\, and/or the passing of loved ones\, or if you are going through a hard time) \nCome join us! All are welcome to come\, participate\, share\, or just listen. \nEVERYONE HAS A PURPOSE! \nRefreshments will be provided \nINFORMATION:\nRaimie Hill – caringhands88@hotmail.com (970)-756-1886\nDana Prescott – prescotts@byu.net\nDan Bingham – yampa81625@yahoo.com \nWhen: Every Thursday at 7 PM\nWhere: Church of Jesus Christ of Latter-Day Saints – 1295 W 9th St\, Craig\, CO \nFacebook page: Caring Hearts Support Group\nWebsite: https://sites.google.com/view/caring-hearts-in-craig-co/home
URL:https://loveincyampavalley.org/event/caring-hearts/2025-03-06/
LOCATION:Church of Jesus Christ of Latter-Day Saint\, 1295 W 9th St\, Craig\, CO\, 81625\, United States
ATTACH;FMTTYPE=image/jpeg:https://loveincyampavalley.org/wp-content/uploads/2025/02/LoveINCYampa_Events_1.jpg
END:VEVENT
BEGIN:VEVENT
DTSTART;TZID=America/Denver:20250227T190000
DTEND;TZID=America/Denver:20250227T200000
DTSTAMP:20260421T091418
CREATED:20250224T064251Z
LAST-MODIFIED:20250224T064251Z
UID:10000116-1740682800-1740686400@loveincyampavalley.org
SUMMARY:Caring Hearts
DESCRIPTION:Support Group: Suicide Prevention & Depression\n(Passing of a child\, and/or the passing of loved ones\, or if you are going through a hard time) \nCome join us! All are welcome to come\, participate\, share\, or just listen. \nEVERYONE HAS A PURPOSE! \nRefreshments will be provided \nINFORMATION:\nRaimie Hill – caringhands88@hotmail.com (970)-756-1886\nDana Prescott – prescotts@byu.net\nDan Bingham – yampa81625@yahoo.com \nWhen: Every Thursday at 7 PM\nWhere: Church of Jesus Christ of Latter-Day Saints – 1295 W 9th St\, Craig\, CO \nFacebook page: Caring Hearts Support Group\nWebsite: https://sites.google.com/view/caring-hearts-in-craig-co/home
URL:https://loveincyampavalley.org/event/caring-hearts/2025-02-27/
LOCATION:Church of Jesus Christ of Latter-Day Saint\, 1295 W 9th St\, Craig\, CO\, 81625\, United States
ATTACH;FMTTYPE=image/jpeg:https://loveincyampavalley.org/wp-content/uploads/2025/02/LoveINCYampa_Events_1.jpg
END:VEVENT
END:VCALENDAR