BEGIN:VCALENDAR
VERSION:2.0
PRODID:-//Love INC of the Yampa Valley - ECPv6.11.2//NONSGML v1.0//EN
CALSCALE:GREGORIAN
METHOD:PUBLISH
X-WR-CALNAME:Love INC of the Yampa Valley
X-ORIGINAL-URL:https://loveincyampavalley.org
X-WR-CALDESC:Events for Love INC of the Yampa Valley
REFRESH-INTERVAL;VALUE=DURATION:PT1H
X-Robots-Tag:noindex
X-PUBLISHED-TTL:PT1H
BEGIN:VTIMEZONE
TZID:America/Denver
BEGIN:DAYLIGHT
TZOFFSETFROM:-0700
TZOFFSETTO:-0600
TZNAME:MDT
DTSTART:20250309T090000
END:DAYLIGHT
BEGIN:STANDARD
TZOFFSETFROM:-0600
TZOFFSETTO:-0700
TZNAME:MST
DTSTART:20251102T080000
END:STANDARD
END:VTIMEZONE
BEGIN:VEVENT
DTSTART;TZID=America/Denver:20250331T173000
DTEND;TZID=America/Denver:20250331T190000
DTSTAMP:20260425T114451
CREATED:20250224T044255Z
LAST-MODIFIED:20250224T153109Z
UID:10000106-1743442200-1743447600@loveincyampavalley.org
SUMMARY:Love and Logic
DESCRIPTION:WHO: Parents\, grandparents\, foster parents\, educators\nWHEN: February 24 – March 31\, 2025\nTIME: 5:30 – 7:00 PM\nWHERE: The Center of Craig\, 601 Yampa Avenue\, Craig\, CO\nCOST: Dinner and childcare provided\nContact Tanya Ferguson at (970) 824-1081 or parented@connections4kids.org to register
URL:https://loveincyampavalley.org/event/love-and-logic/2025-03-31/
LOCATION:The Center of Craig\, 601 Yampa Avenue\, Craig\, CO\, 81625\, United States
ATTACH;FMTTYPE=image/jpeg:https://loveincyampavalley.org/wp-content/uploads/2025/02/LoveINCYampa_Events_18.jpg
END:VEVENT
BEGIN:VEVENT
DTSTART;TZID=America/Denver:20250330T173000
DTEND;TZID=America/Denver:20250330T190000
DTSTAMP:20260425T114451
CREATED:20250224T044255Z
LAST-MODIFIED:20250224T153109Z
UID:10000105-1743355800-1743361200@loveincyampavalley.org
SUMMARY:Love and Logic
DESCRIPTION:WHO: Parents\, grandparents\, foster parents\, educators\nWHEN: February 24 – March 31\, 2025\nTIME: 5:30 – 7:00 PM\nWHERE: The Center of Craig\, 601 Yampa Avenue\, Craig\, CO\nCOST: Dinner and childcare provided\nContact Tanya Ferguson at (970) 824-1081 or parented@connections4kids.org to register
URL:https://loveincyampavalley.org/event/love-and-logic/2025-03-30/
LOCATION:The Center of Craig\, 601 Yampa Avenue\, Craig\, CO\, 81625\, United States
ATTACH;FMTTYPE=image/jpeg:https://loveincyampavalley.org/wp-content/uploads/2025/02/LoveINCYampa_Events_18.jpg
END:VEVENT
BEGIN:VEVENT
DTSTART;TZID=America/Denver:20250329T173000
DTEND;TZID=America/Denver:20250329T190000
DTSTAMP:20260425T114451
CREATED:20250224T044255Z
LAST-MODIFIED:20250224T153109Z
UID:10000104-1743269400-1743274800@loveincyampavalley.org
SUMMARY:Love and Logic
DESCRIPTION:WHO: Parents\, grandparents\, foster parents\, educators\nWHEN: February 24 – March 31\, 2025\nTIME: 5:30 – 7:00 PM\nWHERE: The Center of Craig\, 601 Yampa Avenue\, Craig\, CO\nCOST: Dinner and childcare provided\nContact Tanya Ferguson at (970) 824-1081 or parented@connections4kids.org to register
URL:https://loveincyampavalley.org/event/love-and-logic/2025-03-29/
LOCATION:The Center of Craig\, 601 Yampa Avenue\, Craig\, CO\, 81625\, United States
ATTACH;FMTTYPE=image/jpeg:https://loveincyampavalley.org/wp-content/uploads/2025/02/LoveINCYampa_Events_18.jpg
END:VEVENT
BEGIN:VEVENT
DTSTART;TZID=America/Denver:20250328T173000
DTEND;TZID=America/Denver:20250328T190000
DTSTAMP:20260425T114451
CREATED:20250224T044255Z
LAST-MODIFIED:20250224T153109Z
UID:10000103-1743183000-1743188400@loveincyampavalley.org
SUMMARY:Love and Logic
DESCRIPTION:WHO: Parents\, grandparents\, foster parents\, educators\nWHEN: February 24 – March 31\, 2025\nTIME: 5:30 – 7:00 PM\nWHERE: The Center of Craig\, 601 Yampa Avenue\, Craig\, CO\nCOST: Dinner and childcare provided\nContact Tanya Ferguson at (970) 824-1081 or parented@connections4kids.org to register
URL:https://loveincyampavalley.org/event/love-and-logic/2025-03-28/
LOCATION:The Center of Craig\, 601 Yampa Avenue\, Craig\, CO\, 81625\, United States
ATTACH;FMTTYPE=image/jpeg:https://loveincyampavalley.org/wp-content/uploads/2025/02/LoveINCYampa_Events_18.jpg
END:VEVENT
BEGIN:VEVENT
DTSTART;TZID=America/Denver:20250327T173000
DTEND;TZID=America/Denver:20250327T190000
DTSTAMP:20260425T114451
CREATED:20250224T044255Z
LAST-MODIFIED:20250224T153109Z
UID:10000102-1743096600-1743102000@loveincyampavalley.org
SUMMARY:Love and Logic
DESCRIPTION:WHO: Parents\, grandparents\, foster parents\, educators\nWHEN: February 24 – March 31\, 2025\nTIME: 5:30 – 7:00 PM\nWHERE: The Center of Craig\, 601 Yampa Avenue\, Craig\, CO\nCOST: Dinner and childcare provided\nContact Tanya Ferguson at (970) 824-1081 or parented@connections4kids.org to register
URL:https://loveincyampavalley.org/event/love-and-logic/2025-03-27/
LOCATION:The Center of Craig\, 601 Yampa Avenue\, Craig\, CO\, 81625\, United States
ATTACH;FMTTYPE=image/jpeg:https://loveincyampavalley.org/wp-content/uploads/2025/02/LoveINCYampa_Events_18.jpg
END:VEVENT
BEGIN:VEVENT
DTSTART;TZID=America/Denver:20250326T173000
DTEND;TZID=America/Denver:20250326T190000
DTSTAMP:20260425T114451
CREATED:20250224T044255Z
LAST-MODIFIED:20250224T153109Z
UID:10000101-1743010200-1743015600@loveincyampavalley.org
SUMMARY:Love and Logic
DESCRIPTION:WHO: Parents\, grandparents\, foster parents\, educators\nWHEN: February 24 – March 31\, 2025\nTIME: 5:30 – 7:00 PM\nWHERE: The Center of Craig\, 601 Yampa Avenue\, Craig\, CO\nCOST: Dinner and childcare provided\nContact Tanya Ferguson at (970) 824-1081 or parented@connections4kids.org to register
URL:https://loveincyampavalley.org/event/love-and-logic/2025-03-26/
LOCATION:The Center of Craig\, 601 Yampa Avenue\, Craig\, CO\, 81625\, United States
ATTACH;FMTTYPE=image/jpeg:https://loveincyampavalley.org/wp-content/uploads/2025/02/LoveINCYampa_Events_18.jpg
END:VEVENT
BEGIN:VEVENT
DTSTART;TZID=America/Denver:20250325T173000
DTEND;TZID=America/Denver:20250325T190000
DTSTAMP:20260425T114451
CREATED:20250224T044255Z
LAST-MODIFIED:20250224T153109Z
UID:10000100-1742923800-1742929200@loveincyampavalley.org
SUMMARY:Love and Logic
DESCRIPTION:WHO: Parents\, grandparents\, foster parents\, educators\nWHEN: February 24 – March 31\, 2025\nTIME: 5:30 – 7:00 PM\nWHERE: The Center of Craig\, 601 Yampa Avenue\, Craig\, CO\nCOST: Dinner and childcare provided\nContact Tanya Ferguson at (970) 824-1081 or parented@connections4kids.org to register
URL:https://loveincyampavalley.org/event/love-and-logic/2025-03-25/
LOCATION:The Center of Craig\, 601 Yampa Avenue\, Craig\, CO\, 81625\, United States
ATTACH;FMTTYPE=image/jpeg:https://loveincyampavalley.org/wp-content/uploads/2025/02/LoveINCYampa_Events_18.jpg
END:VEVENT
BEGIN:VEVENT
DTSTART;TZID=America/Denver:20250324T173000
DTEND;TZID=America/Denver:20250324T190000
DTSTAMP:20260425T114451
CREATED:20250224T044255Z
LAST-MODIFIED:20250224T153109Z
UID:10000099-1742837400-1742842800@loveincyampavalley.org
SUMMARY:Love and Logic
DESCRIPTION:WHO: Parents\, grandparents\, foster parents\, educators\nWHEN: February 24 – March 31\, 2025\nTIME: 5:30 – 7:00 PM\nWHERE: The Center of Craig\, 601 Yampa Avenue\, Craig\, CO\nCOST: Dinner and childcare provided\nContact Tanya Ferguson at (970) 824-1081 or parented@connections4kids.org to register
URL:https://loveincyampavalley.org/event/love-and-logic/2025-03-24/
LOCATION:The Center of Craig\, 601 Yampa Avenue\, Craig\, CO\, 81625\, United States
ATTACH;FMTTYPE=image/jpeg:https://loveincyampavalley.org/wp-content/uploads/2025/02/LoveINCYampa_Events_18.jpg
END:VEVENT
BEGIN:VEVENT
DTSTART;TZID=America/Denver:20250323T173000
DTEND;TZID=America/Denver:20250323T190000
DTSTAMP:20260425T114451
CREATED:20250224T044255Z
LAST-MODIFIED:20250224T153109Z
UID:10000098-1742751000-1742756400@loveincyampavalley.org
SUMMARY:Love and Logic
DESCRIPTION:WHO: Parents\, grandparents\, foster parents\, educators\nWHEN: February 24 – March 31\, 2025\nTIME: 5:30 – 7:00 PM\nWHERE: The Center of Craig\, 601 Yampa Avenue\, Craig\, CO\nCOST: Dinner and childcare provided\nContact Tanya Ferguson at (970) 824-1081 or parented@connections4kids.org to register
URL:https://loveincyampavalley.org/event/love-and-logic/2025-03-23/
LOCATION:The Center of Craig\, 601 Yampa Avenue\, Craig\, CO\, 81625\, United States
ATTACH;FMTTYPE=image/jpeg:https://loveincyampavalley.org/wp-content/uploads/2025/02/LoveINCYampa_Events_18.jpg
END:VEVENT
BEGIN:VEVENT
DTSTART;TZID=America/Denver:20250322T173000
DTEND;TZID=America/Denver:20250322T190000
DTSTAMP:20260425T114451
CREATED:20250224T044255Z
LAST-MODIFIED:20250224T153109Z
UID:10000097-1742664600-1742670000@loveincyampavalley.org
SUMMARY:Love and Logic
DESCRIPTION:WHO: Parents\, grandparents\, foster parents\, educators\nWHEN: February 24 – March 31\, 2025\nTIME: 5:30 – 7:00 PM\nWHERE: The Center of Craig\, 601 Yampa Avenue\, Craig\, CO\nCOST: Dinner and childcare provided\nContact Tanya Ferguson at (970) 824-1081 or parented@connections4kids.org to register
URL:https://loveincyampavalley.org/event/love-and-logic/2025-03-22/
LOCATION:The Center of Craig\, 601 Yampa Avenue\, Craig\, CO\, 81625\, United States
ATTACH;FMTTYPE=image/jpeg:https://loveincyampavalley.org/wp-content/uploads/2025/02/LoveINCYampa_Events_18.jpg
END:VEVENT
BEGIN:VEVENT
DTSTART;TZID=America/Denver:20250321T173000
DTEND;TZID=America/Denver:20250321T190000
DTSTAMP:20260425T114451
CREATED:20250224T044255Z
LAST-MODIFIED:20250224T153109Z
UID:10000096-1742578200-1742583600@loveincyampavalley.org
SUMMARY:Love and Logic
DESCRIPTION:WHO: Parents\, grandparents\, foster parents\, educators\nWHEN: February 24 – March 31\, 2025\nTIME: 5:30 – 7:00 PM\nWHERE: The Center of Craig\, 601 Yampa Avenue\, Craig\, CO\nCOST: Dinner and childcare provided\nContact Tanya Ferguson at (970) 824-1081 or parented@connections4kids.org to register
URL:https://loveincyampavalley.org/event/love-and-logic/2025-03-21/
LOCATION:The Center of Craig\, 601 Yampa Avenue\, Craig\, CO\, 81625\, United States
ATTACH;FMTTYPE=image/jpeg:https://loveincyampavalley.org/wp-content/uploads/2025/02/LoveINCYampa_Events_18.jpg
END:VEVENT
BEGIN:VEVENT
DTSTART;TZID=America/Denver:20250320T173000
DTEND;TZID=America/Denver:20250320T190000
DTSTAMP:20260425T114451
CREATED:20250224T044255Z
LAST-MODIFIED:20250224T153109Z
UID:10000095-1742491800-1742497200@loveincyampavalley.org
SUMMARY:Love and Logic
DESCRIPTION:WHO: Parents\, grandparents\, foster parents\, educators\nWHEN: February 24 – March 31\, 2025\nTIME: 5:30 – 7:00 PM\nWHERE: The Center of Craig\, 601 Yampa Avenue\, Craig\, CO\nCOST: Dinner and childcare provided\nContact Tanya Ferguson at (970) 824-1081 or parented@connections4kids.org to register
URL:https://loveincyampavalley.org/event/love-and-logic/2025-03-20/
LOCATION:The Center of Craig\, 601 Yampa Avenue\, Craig\, CO\, 81625\, United States
ATTACH;FMTTYPE=image/jpeg:https://loveincyampavalley.org/wp-content/uploads/2025/02/LoveINCYampa_Events_18.jpg
END:VEVENT
BEGIN:VEVENT
DTSTART;TZID=America/Denver:20250319T173000
DTEND;TZID=America/Denver:20250319T190000
DTSTAMP:20260425T114451
CREATED:20250224T044255Z
LAST-MODIFIED:20250224T153109Z
UID:10000094-1742405400-1742410800@loveincyampavalley.org
SUMMARY:Love and Logic
DESCRIPTION:WHO: Parents\, grandparents\, foster parents\, educators\nWHEN: February 24 – March 31\, 2025\nTIME: 5:30 – 7:00 PM\nWHERE: The Center of Craig\, 601 Yampa Avenue\, Craig\, CO\nCOST: Dinner and childcare provided\nContact Tanya Ferguson at (970) 824-1081 or parented@connections4kids.org to register
URL:https://loveincyampavalley.org/event/love-and-logic/2025-03-19/
LOCATION:The Center of Craig\, 601 Yampa Avenue\, Craig\, CO\, 81625\, United States
ATTACH;FMTTYPE=image/jpeg:https://loveincyampavalley.org/wp-content/uploads/2025/02/LoveINCYampa_Events_18.jpg
END:VEVENT
BEGIN:VEVENT
DTSTART;TZID=America/Denver:20250318T173000
DTEND;TZID=America/Denver:20250318T190000
DTSTAMP:20260425T114451
CREATED:20250224T044255Z
LAST-MODIFIED:20250224T153109Z
UID:10000093-1742319000-1742324400@loveincyampavalley.org
SUMMARY:Love and Logic
DESCRIPTION:WHO: Parents\, grandparents\, foster parents\, educators\nWHEN: February 24 – March 31\, 2025\nTIME: 5:30 – 7:00 PM\nWHERE: The Center of Craig\, 601 Yampa Avenue\, Craig\, CO\nCOST: Dinner and childcare provided\nContact Tanya Ferguson at (970) 824-1081 or parented@connections4kids.org to register
URL:https://loveincyampavalley.org/event/love-and-logic/2025-03-18/
LOCATION:The Center of Craig\, 601 Yampa Avenue\, Craig\, CO\, 81625\, United States
ATTACH;FMTTYPE=image/jpeg:https://loveincyampavalley.org/wp-content/uploads/2025/02/LoveINCYampa_Events_18.jpg
END:VEVENT
BEGIN:VEVENT
DTSTART;TZID=America/Denver:20250317T173000
DTEND;TZID=America/Denver:20250317T190000
DTSTAMP:20260425T114451
CREATED:20250224T044255Z
LAST-MODIFIED:20250224T153109Z
UID:10000092-1742232600-1742238000@loveincyampavalley.org
SUMMARY:Love and Logic
DESCRIPTION:WHO: Parents\, grandparents\, foster parents\, educators\nWHEN: February 24 – March 31\, 2025\nTIME: 5:30 – 7:00 PM\nWHERE: The Center of Craig\, 601 Yampa Avenue\, Craig\, CO\nCOST: Dinner and childcare provided\nContact Tanya Ferguson at (970) 824-1081 or parented@connections4kids.org to register
URL:https://loveincyampavalley.org/event/love-and-logic/2025-03-17/
LOCATION:The Center of Craig\, 601 Yampa Avenue\, Craig\, CO\, 81625\, United States
ATTACH;FMTTYPE=image/jpeg:https://loveincyampavalley.org/wp-content/uploads/2025/02/LoveINCYampa_Events_18.jpg
END:VEVENT
BEGIN:VEVENT
DTSTART;TZID=America/Denver:20250316T173000
DTEND;TZID=America/Denver:20250316T190000
DTSTAMP:20260425T114451
CREATED:20250224T044255Z
LAST-MODIFIED:20250224T153109Z
UID:10000091-1742146200-1742151600@loveincyampavalley.org
SUMMARY:Love and Logic
DESCRIPTION:WHO: Parents\, grandparents\, foster parents\, educators\nWHEN: February 24 – March 31\, 2025\nTIME: 5:30 – 7:00 PM\nWHERE: The Center of Craig\, 601 Yampa Avenue\, Craig\, CO\nCOST: Dinner and childcare provided\nContact Tanya Ferguson at (970) 824-1081 or parented@connections4kids.org to register
URL:https://loveincyampavalley.org/event/love-and-logic/2025-03-16/
LOCATION:The Center of Craig\, 601 Yampa Avenue\, Craig\, CO\, 81625\, United States
ATTACH;FMTTYPE=image/jpeg:https://loveincyampavalley.org/wp-content/uploads/2025/02/LoveINCYampa_Events_18.jpg
END:VEVENT
BEGIN:VEVENT
DTSTART;TZID=America/Denver:20250315T173000
DTEND;TZID=America/Denver:20250315T190000
DTSTAMP:20260425T114451
CREATED:20250224T044255Z
LAST-MODIFIED:20250224T153109Z
UID:10000090-1742059800-1742065200@loveincyampavalley.org
SUMMARY:Love and Logic
DESCRIPTION:WHO: Parents\, grandparents\, foster parents\, educators\nWHEN: February 24 – March 31\, 2025\nTIME: 5:30 – 7:00 PM\nWHERE: The Center of Craig\, 601 Yampa Avenue\, Craig\, CO\nCOST: Dinner and childcare provided\nContact Tanya Ferguson at (970) 824-1081 or parented@connections4kids.org to register
URL:https://loveincyampavalley.org/event/love-and-logic/2025-03-15/
LOCATION:The Center of Craig\, 601 Yampa Avenue\, Craig\, CO\, 81625\, United States
ATTACH;FMTTYPE=image/jpeg:https://loveincyampavalley.org/wp-content/uploads/2025/02/LoveINCYampa_Events_18.jpg
END:VEVENT
BEGIN:VEVENT
DTSTART;TZID=America/Denver:20250314T173000
DTEND;TZID=America/Denver:20250314T190000
DTSTAMP:20260425T114451
CREATED:20250224T044255Z
LAST-MODIFIED:20250224T153109Z
UID:10000089-1741973400-1741978800@loveincyampavalley.org
SUMMARY:Love and Logic
DESCRIPTION:WHO: Parents\, grandparents\, foster parents\, educators\nWHEN: February 24 – March 31\, 2025\nTIME: 5:30 – 7:00 PM\nWHERE: The Center of Craig\, 601 Yampa Avenue\, Craig\, CO\nCOST: Dinner and childcare provided\nContact Tanya Ferguson at (970) 824-1081 or parented@connections4kids.org to register
URL:https://loveincyampavalley.org/event/love-and-logic/2025-03-14/
LOCATION:The Center of Craig\, 601 Yampa Avenue\, Craig\, CO\, 81625\, United States
ATTACH;FMTTYPE=image/jpeg:https://loveincyampavalley.org/wp-content/uploads/2025/02/LoveINCYampa_Events_18.jpg
END:VEVENT
BEGIN:VEVENT
DTSTART;TZID=America/Denver:20250313T173000
DTEND;TZID=America/Denver:20250313T190000
DTSTAMP:20260425T114451
CREATED:20250224T044255Z
LAST-MODIFIED:20250224T153109Z
UID:10000088-1741887000-1741892400@loveincyampavalley.org
SUMMARY:Love and Logic
DESCRIPTION:WHO: Parents\, grandparents\, foster parents\, educators\nWHEN: February 24 – March 31\, 2025\nTIME: 5:30 – 7:00 PM\nWHERE: The Center of Craig\, 601 Yampa Avenue\, Craig\, CO\nCOST: Dinner and childcare provided\nContact Tanya Ferguson at (970) 824-1081 or parented@connections4kids.org to register
URL:https://loveincyampavalley.org/event/love-and-logic/2025-03-13/
LOCATION:The Center of Craig\, 601 Yampa Avenue\, Craig\, CO\, 81625\, United States
ATTACH;FMTTYPE=image/jpeg:https://loveincyampavalley.org/wp-content/uploads/2025/02/LoveINCYampa_Events_18.jpg
END:VEVENT
BEGIN:VEVENT
DTSTART;TZID=America/Denver:20250312T173000
DTEND;TZID=America/Denver:20250312T190000
DTSTAMP:20260425T114451
CREATED:20250224T044255Z
LAST-MODIFIED:20250224T153109Z
UID:10000087-1741800600-1741806000@loveincyampavalley.org
SUMMARY:Love and Logic
DESCRIPTION:WHO: Parents\, grandparents\, foster parents\, educators\nWHEN: February 24 – March 31\, 2025\nTIME: 5:30 – 7:00 PM\nWHERE: The Center of Craig\, 601 Yampa Avenue\, Craig\, CO\nCOST: Dinner and childcare provided\nContact Tanya Ferguson at (970) 824-1081 or parented@connections4kids.org to register
URL:https://loveincyampavalley.org/event/love-and-logic/2025-03-12/
LOCATION:The Center of Craig\, 601 Yampa Avenue\, Craig\, CO\, 81625\, United States
ATTACH;FMTTYPE=image/jpeg:https://loveincyampavalley.org/wp-content/uploads/2025/02/LoveINCYampa_Events_18.jpg
END:VEVENT
BEGIN:VEVENT
DTSTART;TZID=America/Denver:20250311T173000
DTEND;TZID=America/Denver:20250311T190000
DTSTAMP:20260425T114451
CREATED:20250224T044255Z
LAST-MODIFIED:20250224T153109Z
UID:10000086-1741714200-1741719600@loveincyampavalley.org
SUMMARY:Love and Logic
DESCRIPTION:WHO: Parents\, grandparents\, foster parents\, educators\nWHEN: February 24 – March 31\, 2025\nTIME: 5:30 – 7:00 PM\nWHERE: The Center of Craig\, 601 Yampa Avenue\, Craig\, CO\nCOST: Dinner and childcare provided\nContact Tanya Ferguson at (970) 824-1081 or parented@connections4kids.org to register
URL:https://loveincyampavalley.org/event/love-and-logic/2025-03-11/
LOCATION:The Center of Craig\, 601 Yampa Avenue\, Craig\, CO\, 81625\, United States
ATTACH;FMTTYPE=image/jpeg:https://loveincyampavalley.org/wp-content/uploads/2025/02/LoveINCYampa_Events_18.jpg
END:VEVENT
BEGIN:VEVENT
DTSTART;TZID=America/Denver:20250310T173000
DTEND;TZID=America/Denver:20250310T190000
DTSTAMP:20260425T114451
CREATED:20250224T044255Z
LAST-MODIFIED:20250224T153109Z
UID:10000085-1741627800-1741633200@loveincyampavalley.org
SUMMARY:Love and Logic
DESCRIPTION:WHO: Parents\, grandparents\, foster parents\, educators\nWHEN: February 24 – March 31\, 2025\nTIME: 5:30 – 7:00 PM\nWHERE: The Center of Craig\, 601 Yampa Avenue\, Craig\, CO\nCOST: Dinner and childcare provided\nContact Tanya Ferguson at (970) 824-1081 or parented@connections4kids.org to register
URL:https://loveincyampavalley.org/event/love-and-logic/2025-03-10/
LOCATION:The Center of Craig\, 601 Yampa Avenue\, Craig\, CO\, 81625\, United States
ATTACH;FMTTYPE=image/jpeg:https://loveincyampavalley.org/wp-content/uploads/2025/02/LoveINCYampa_Events_18.jpg
END:VEVENT
BEGIN:VEVENT
DTSTART;TZID=America/Denver:20250309T173000
DTEND;TZID=America/Denver:20250309T190000
DTSTAMP:20260425T114451
CREATED:20250224T044255Z
LAST-MODIFIED:20250224T153109Z
UID:10000084-1741541400-1741546800@loveincyampavalley.org
SUMMARY:Love and Logic
DESCRIPTION:WHO: Parents\, grandparents\, foster parents\, educators\nWHEN: February 24 – March 31\, 2025\nTIME: 5:30 – 7:00 PM\nWHERE: The Center of Craig\, 601 Yampa Avenue\, Craig\, CO\nCOST: Dinner and childcare provided\nContact Tanya Ferguson at (970) 824-1081 or parented@connections4kids.org to register
URL:https://loveincyampavalley.org/event/love-and-logic/2025-03-09/
LOCATION:The Center of Craig\, 601 Yampa Avenue\, Craig\, CO\, 81625\, United States
ATTACH;FMTTYPE=image/jpeg:https://loveincyampavalley.org/wp-content/uploads/2025/02/LoveINCYampa_Events_18.jpg
END:VEVENT
BEGIN:VEVENT
DTSTART;TZID=America/Denver:20250308T173000
DTEND;TZID=America/Denver:20250308T190000
DTSTAMP:20260425T114451
CREATED:20250224T044255Z
LAST-MODIFIED:20250224T153109Z
UID:10000083-1741455000-1741460400@loveincyampavalley.org
SUMMARY:Love and Logic
DESCRIPTION:WHO: Parents\, grandparents\, foster parents\, educators\nWHEN: February 24 – March 31\, 2025\nTIME: 5:30 – 7:00 PM\nWHERE: The Center of Craig\, 601 Yampa Avenue\, Craig\, CO\nCOST: Dinner and childcare provided\nContact Tanya Ferguson at (970) 824-1081 or parented@connections4kids.org to register
URL:https://loveincyampavalley.org/event/love-and-logic/2025-03-08/
LOCATION:The Center of Craig\, 601 Yampa Avenue\, Craig\, CO\, 81625\, United States
ATTACH;FMTTYPE=image/jpeg:https://loveincyampavalley.org/wp-content/uploads/2025/02/LoveINCYampa_Events_18.jpg
END:VEVENT
BEGIN:VEVENT
DTSTART;TZID=America/Denver:20250307T173000
DTEND;TZID=America/Denver:20250307T190000
DTSTAMP:20260425T114451
CREATED:20250224T044255Z
LAST-MODIFIED:20250224T153109Z
UID:10000082-1741368600-1741374000@loveincyampavalley.org
SUMMARY:Love and Logic
DESCRIPTION:WHO: Parents\, grandparents\, foster parents\, educators\nWHEN: February 24 – March 31\, 2025\nTIME: 5:30 – 7:00 PM\nWHERE: The Center of Craig\, 601 Yampa Avenue\, Craig\, CO\nCOST: Dinner and childcare provided\nContact Tanya Ferguson at (970) 824-1081 or parented@connections4kids.org to register
URL:https://loveincyampavalley.org/event/love-and-logic/2025-03-07/
LOCATION:The Center of Craig\, 601 Yampa Avenue\, Craig\, CO\, 81625\, United States
ATTACH;FMTTYPE=image/jpeg:https://loveincyampavalley.org/wp-content/uploads/2025/02/LoveINCYampa_Events_18.jpg
END:VEVENT
BEGIN:VEVENT
DTSTART;TZID=America/Denver:20250306T173000
DTEND;TZID=America/Denver:20250306T190000
DTSTAMP:20260425T114451
CREATED:20250224T044255Z
LAST-MODIFIED:20250224T153109Z
UID:10000081-1741282200-1741287600@loveincyampavalley.org
SUMMARY:Love and Logic
DESCRIPTION:WHO: Parents\, grandparents\, foster parents\, educators\nWHEN: February 24 – March 31\, 2025\nTIME: 5:30 – 7:00 PM\nWHERE: The Center of Craig\, 601 Yampa Avenue\, Craig\, CO\nCOST: Dinner and childcare provided\nContact Tanya Ferguson at (970) 824-1081 or parented@connections4kids.org to register
URL:https://loveincyampavalley.org/event/love-and-logic/2025-03-06/
LOCATION:The Center of Craig\, 601 Yampa Avenue\, Craig\, CO\, 81625\, United States
ATTACH;FMTTYPE=image/jpeg:https://loveincyampavalley.org/wp-content/uploads/2025/02/LoveINCYampa_Events_18.jpg
END:VEVENT
BEGIN:VEVENT
DTSTART;TZID=America/Denver:20250305T173000
DTEND;TZID=America/Denver:20250305T190000
DTSTAMP:20260425T114451
CREATED:20250224T044255Z
LAST-MODIFIED:20250224T153109Z
UID:10000080-1741195800-1741201200@loveincyampavalley.org
SUMMARY:Love and Logic
DESCRIPTION:WHO: Parents\, grandparents\, foster parents\, educators\nWHEN: February 24 – March 31\, 2025\nTIME: 5:30 – 7:00 PM\nWHERE: The Center of Craig\, 601 Yampa Avenue\, Craig\, CO\nCOST: Dinner and childcare provided\nContact Tanya Ferguson at (970) 824-1081 or parented@connections4kids.org to register
URL:https://loveincyampavalley.org/event/love-and-logic/2025-03-05/
LOCATION:The Center of Craig\, 601 Yampa Avenue\, Craig\, CO\, 81625\, United States
ATTACH;FMTTYPE=image/jpeg:https://loveincyampavalley.org/wp-content/uploads/2025/02/LoveINCYampa_Events_18.jpg
END:VEVENT
BEGIN:VEVENT
DTSTART;TZID=America/Denver:20250304T173000
DTEND;TZID=America/Denver:20250304T190000
DTSTAMP:20260425T114451
CREATED:20250224T044255Z
LAST-MODIFIED:20250224T153109Z
UID:10000079-1741109400-1741114800@loveincyampavalley.org
SUMMARY:Love and Logic
DESCRIPTION:WHO: Parents\, grandparents\, foster parents\, educators\nWHEN: February 24 – March 31\, 2025\nTIME: 5:30 – 7:00 PM\nWHERE: The Center of Craig\, 601 Yampa Avenue\, Craig\, CO\nCOST: Dinner and childcare provided\nContact Tanya Ferguson at (970) 824-1081 or parented@connections4kids.org to register
URL:https://loveincyampavalley.org/event/love-and-logic/2025-03-04/
LOCATION:The Center of Craig\, 601 Yampa Avenue\, Craig\, CO\, 81625\, United States
ATTACH;FMTTYPE=image/jpeg:https://loveincyampavalley.org/wp-content/uploads/2025/02/LoveINCYampa_Events_18.jpg
END:VEVENT
BEGIN:VEVENT
DTSTART;TZID=America/Denver:20250303T173000
DTEND;TZID=America/Denver:20250303T190000
DTSTAMP:20260425T114451
CREATED:20250224T044255Z
LAST-MODIFIED:20250224T153109Z
UID:10000078-1741023000-1741028400@loveincyampavalley.org
SUMMARY:Love and Logic
DESCRIPTION:WHO: Parents\, grandparents\, foster parents\, educators\nWHEN: February 24 – March 31\, 2025\nTIME: 5:30 – 7:00 PM\nWHERE: The Center of Craig\, 601 Yampa Avenue\, Craig\, CO\nCOST: Dinner and childcare provided\nContact Tanya Ferguson at (970) 824-1081 or parented@connections4kids.org to register
URL:https://loveincyampavalley.org/event/love-and-logic/2025-03-03/
LOCATION:The Center of Craig\, 601 Yampa Avenue\, Craig\, CO\, 81625\, United States
ATTACH;FMTTYPE=image/jpeg:https://loveincyampavalley.org/wp-content/uploads/2025/02/LoveINCYampa_Events_18.jpg
END:VEVENT
BEGIN:VEVENT
DTSTART;TZID=America/Denver:20250302T173000
DTEND;TZID=America/Denver:20250302T190000
DTSTAMP:20260425T114451
CREATED:20250224T044255Z
LAST-MODIFIED:20250224T153109Z
UID:10000077-1740936600-1740942000@loveincyampavalley.org
SUMMARY:Love and Logic
DESCRIPTION:WHO: Parents\, grandparents\, foster parents\, educators\nWHEN: February 24 – March 31\, 2025\nTIME: 5:30 – 7:00 PM\nWHERE: The Center of Craig\, 601 Yampa Avenue\, Craig\, CO\nCOST: Dinner and childcare provided\nContact Tanya Ferguson at (970) 824-1081 or parented@connections4kids.org to register
URL:https://loveincyampavalley.org/event/love-and-logic/2025-03-02/
LOCATION:The Center of Craig\, 601 Yampa Avenue\, Craig\, CO\, 81625\, United States
ATTACH;FMTTYPE=image/jpeg:https://loveincyampavalley.org/wp-content/uploads/2025/02/LoveINCYampa_Events_18.jpg
END:VEVENT
END:VCALENDAR