BEGIN:VCALENDAR
VERSION:2.0
PRODID:-//Love INC of the Yampa Valley - ECPv6.11.2//NONSGML v1.0//EN
CALSCALE:GREGORIAN
METHOD:PUBLISH
X-WR-CALNAME:Love INC of the Yampa Valley
X-ORIGINAL-URL:https://loveincyampavalley.org
X-WR-CALDESC:Events for Love INC of the Yampa Valley
REFRESH-INTERVAL;VALUE=DURATION:PT1H
X-Robots-Tag:noindex
X-PUBLISHED-TTL:PT1H
BEGIN:VTIMEZONE
TZID:America/Denver
BEGIN:DAYLIGHT
TZOFFSETFROM:-0700
TZOFFSETTO:-0600
TZNAME:MDT
DTSTART:20250309T090000
END:DAYLIGHT
BEGIN:STANDARD
TZOFFSETFROM:-0600
TZOFFSETTO:-0700
TZNAME:MST
DTSTART:20251102T080000
END:STANDARD
END:VTIMEZONE
BEGIN:VEVENT
DTSTART;TZID=America/Denver:20250904T093000
DTEND;TZID=America/Denver:20250904T103000
DTSTAMP:20260419T074719
CREATED:20250224T065659Z
LAST-MODIFIED:20250224T065659Z
UID:10000190-1756978200-1756981800@loveincyampavalley.org
SUMMARY:Gather - Coffee\, Community & Conversation
DESCRIPTION:The GATHER program is designed to bring friends\, neighbors\, and more importantly\, the community together to reconnect and strengthen our ties. \nAll are welcome to come\, enjoy coffee and make connections. \nWhen: Every 1st & 3rd Thursday of the month\nWhere: Yampa Building\, 775 Yampa Ave\, Craig\nTime: 9:30 – 10:30 AM \nUnitedWayoftheYampaValley.org/gather
URL:https://loveincyampavalley.org/event/gather-coffee-community-conversation/2025-09-04/
LOCATION:United Way of the Yampa Valley  – Yampa Building\, 775 Yampa Ave\, Craig\, CO\, 81625\, United States
ATTACH;FMTTYPE=image/jpeg:https://loveincyampavalley.org/wp-content/uploads/2025/02/LoveINCYampa_Events_3.jpg
END:VEVENT
BEGIN:VEVENT
DTSTART;TZID=America/Denver:20250821T093000
DTEND;TZID=America/Denver:20250821T103000
DTSTAMP:20260419T074719
CREATED:20250224T065934Z
LAST-MODIFIED:20250224T065934Z
UID:10000215-1755768600-1755772200@loveincyampavalley.org
SUMMARY:Gather - Coffee\, Community & Conversation
DESCRIPTION:The GATHER program is designed to bring friends\, neighbors\, and more importantly\, the community together to reconnect and strengthen our ties. \nAll are welcome to come\, enjoy coffee and make connections. \nWhen: Every 1st & 3rd Thursday of the month\nWhere: Yampa Building\, 775 Yampa Ave\, Craig\nTime: 9:30 – 10:30 AM \nUnitedWayoftheYampaValley.org/gather
URL:https://loveincyampavalley.org/event/gather-coffee-community-conversation-2/2025-08-21/
LOCATION:United Way of the Yampa Valley  – Yampa Building\, 775 Yampa Ave\, Craig\, CO\, 81625\, United States
ATTACH;FMTTYPE=image/jpeg:https://loveincyampavalley.org/wp-content/uploads/2025/02/LoveINCYampa_Events_3.jpg
END:VEVENT
BEGIN:VEVENT
DTSTART;TZID=America/Denver:20250807T093000
DTEND;TZID=America/Denver:20250807T103000
DTSTAMP:20260419T074719
CREATED:20250224T065659Z
LAST-MODIFIED:20250224T065659Z
UID:10000189-1754559000-1754562600@loveincyampavalley.org
SUMMARY:Gather - Coffee\, Community & Conversation
DESCRIPTION:The GATHER program is designed to bring friends\, neighbors\, and more importantly\, the community together to reconnect and strengthen our ties. \nAll are welcome to come\, enjoy coffee and make connections. \nWhen: Every 1st & 3rd Thursday of the month\nWhere: Yampa Building\, 775 Yampa Ave\, Craig\nTime: 9:30 – 10:30 AM \nUnitedWayoftheYampaValley.org/gather
URL:https://loveincyampavalley.org/event/gather-coffee-community-conversation/2025-08-07/
LOCATION:United Way of the Yampa Valley  – Yampa Building\, 775 Yampa Ave\, Craig\, CO\, 81625\, United States
ATTACH;FMTTYPE=image/jpeg:https://loveincyampavalley.org/wp-content/uploads/2025/02/LoveINCYampa_Events_3.jpg
END:VEVENT
BEGIN:VEVENT
DTSTART;TZID=America/Denver:20250717T093000
DTEND;TZID=America/Denver:20250717T103000
DTSTAMP:20260419T074719
CREATED:20250224T065934Z
LAST-MODIFIED:20250224T065934Z
UID:10000214-1752744600-1752748200@loveincyampavalley.org
SUMMARY:Gather - Coffee\, Community & Conversation
DESCRIPTION:The GATHER program is designed to bring friends\, neighbors\, and more importantly\, the community together to reconnect and strengthen our ties. \nAll are welcome to come\, enjoy coffee and make connections. \nWhen: Every 1st & 3rd Thursday of the month\nWhere: Yampa Building\, 775 Yampa Ave\, Craig\nTime: 9:30 – 10:30 AM \nUnitedWayoftheYampaValley.org/gather
URL:https://loveincyampavalley.org/event/gather-coffee-community-conversation-2/2025-07-17/
LOCATION:United Way of the Yampa Valley  – Yampa Building\, 775 Yampa Ave\, Craig\, CO\, 81625\, United States
ATTACH;FMTTYPE=image/jpeg:https://loveincyampavalley.org/wp-content/uploads/2025/02/LoveINCYampa_Events_3.jpg
END:VEVENT
BEGIN:VEVENT
DTSTART;TZID=America/Denver:20250703T093000
DTEND;TZID=America/Denver:20250703T103000
DTSTAMP:20260419T074719
CREATED:20250224T065659Z
LAST-MODIFIED:20250224T065659Z
UID:10000188-1751535000-1751538600@loveincyampavalley.org
SUMMARY:Gather - Coffee\, Community & Conversation
DESCRIPTION:The GATHER program is designed to bring friends\, neighbors\, and more importantly\, the community together to reconnect and strengthen our ties. \nAll are welcome to come\, enjoy coffee and make connections. \nWhen: Every 1st & 3rd Thursday of the month\nWhere: Yampa Building\, 775 Yampa Ave\, Craig\nTime: 9:30 – 10:30 AM \nUnitedWayoftheYampaValley.org/gather
URL:https://loveincyampavalley.org/event/gather-coffee-community-conversation/2025-07-03/
LOCATION:United Way of the Yampa Valley  – Yampa Building\, 775 Yampa Ave\, Craig\, CO\, 81625\, United States
ATTACH;FMTTYPE=image/jpeg:https://loveincyampavalley.org/wp-content/uploads/2025/02/LoveINCYampa_Events_3.jpg
END:VEVENT
BEGIN:VEVENT
DTSTART;TZID=America/Denver:20250625T140000
DTEND;TZID=America/Denver:20250625T180000
DTSTAMP:20260419T074719
CREATED:20250610T222519Z
LAST-MODIFIED:20250610T222546Z
UID:10000982-1750860000-1750874400@loveincyampavalley.org
SUMMARY:Older Adult Expo
DESCRIPTION:Resource Booth\nVolunteer Opportunities\nFood\, Fun and Prizes\nHealth Fair Services and Screenings\nHealth and Wellness\nSocialize\nCreate\nExercise\nMental Health\n\nLoveINCYampa Events Older Adult Expo Spanish
URL:https://loveincyampavalley.org/event/older-adult-expo/
LOCATION:United Way of the Yampa Valley  – Yampa Building\, 775 Yampa Ave\, Craig\, CO\, 81625\, United States
ATTACH;FMTTYPE=image/jpeg:https://loveincyampavalley.org/wp-content/uploads/2025/06/LoveINCYampa_Events_Older-Adult-Expo_English.jpg
END:VEVENT
BEGIN:VEVENT
DTSTART;TZID=America/Denver:20250619T093000
DTEND;TZID=America/Denver:20250619T103000
DTSTAMP:20260419T074719
CREATED:20250224T065934Z
LAST-MODIFIED:20250224T065934Z
UID:10000213-1750325400-1750329000@loveincyampavalley.org
SUMMARY:Gather - Coffee\, Community & Conversation
DESCRIPTION:The GATHER program is designed to bring friends\, neighbors\, and more importantly\, the community together to reconnect and strengthen our ties. \nAll are welcome to come\, enjoy coffee and make connections. \nWhen: Every 1st & 3rd Thursday of the month\nWhere: Yampa Building\, 775 Yampa Ave\, Craig\nTime: 9:30 – 10:30 AM \nUnitedWayoftheYampaValley.org/gather
URL:https://loveincyampavalley.org/event/gather-coffee-community-conversation-2/2025-06-19/
LOCATION:United Way of the Yampa Valley  – Yampa Building\, 775 Yampa Ave\, Craig\, CO\, 81625\, United States
ATTACH;FMTTYPE=image/jpeg:https://loveincyampavalley.org/wp-content/uploads/2025/02/LoveINCYampa_Events_3.jpg
END:VEVENT
BEGIN:VEVENT
DTSTART;TZID=America/Denver:20250605T093000
DTEND;TZID=America/Denver:20250605T103000
DTSTAMP:20260419T074719
CREATED:20250224T065659Z
LAST-MODIFIED:20250224T065659Z
UID:10000187-1749115800-1749119400@loveincyampavalley.org
SUMMARY:Gather - Coffee\, Community & Conversation
DESCRIPTION:The GATHER program is designed to bring friends\, neighbors\, and more importantly\, the community together to reconnect and strengthen our ties. \nAll are welcome to come\, enjoy coffee and make connections. \nWhen: Every 1st & 3rd Thursday of the month\nWhere: Yampa Building\, 775 Yampa Ave\, Craig\nTime: 9:30 – 10:30 AM \nUnitedWayoftheYampaValley.org/gather
URL:https://loveincyampavalley.org/event/gather-coffee-community-conversation/2025-06-05/
LOCATION:United Way of the Yampa Valley  – Yampa Building\, 775 Yampa Ave\, Craig\, CO\, 81625\, United States
ATTACH;FMTTYPE=image/jpeg:https://loveincyampavalley.org/wp-content/uploads/2025/02/LoveINCYampa_Events_3.jpg
END:VEVENT
BEGIN:VEVENT
DTSTART;TZID=America/Denver:20250515T093000
DTEND;TZID=America/Denver:20250515T103000
DTSTAMP:20260419T074719
CREATED:20250224T065934Z
LAST-MODIFIED:20250224T065934Z
UID:10000212-1747301400-1747305000@loveincyampavalley.org
SUMMARY:Gather - Coffee\, Community & Conversation
DESCRIPTION:The GATHER program is designed to bring friends\, neighbors\, and more importantly\, the community together to reconnect and strengthen our ties. \nAll are welcome to come\, enjoy coffee and make connections. \nWhen: Every 1st & 3rd Thursday of the month\nWhere: Yampa Building\, 775 Yampa Ave\, Craig\nTime: 9:30 – 10:30 AM \nUnitedWayoftheYampaValley.org/gather
URL:https://loveincyampavalley.org/event/gather-coffee-community-conversation-2/2025-05-15/
LOCATION:United Way of the Yampa Valley  – Yampa Building\, 775 Yampa Ave\, Craig\, CO\, 81625\, United States
ATTACH;FMTTYPE=image/jpeg:https://loveincyampavalley.org/wp-content/uploads/2025/02/LoveINCYampa_Events_3.jpg
END:VEVENT
BEGIN:VEVENT
DTSTART;TZID=America/Denver:20250501T093000
DTEND;TZID=America/Denver:20250501T103000
DTSTAMP:20260419T074719
CREATED:20250224T065659Z
LAST-MODIFIED:20250224T065659Z
UID:10000186-1746091800-1746095400@loveincyampavalley.org
SUMMARY:Gather - Coffee\, Community & Conversation
DESCRIPTION:The GATHER program is designed to bring friends\, neighbors\, and more importantly\, the community together to reconnect and strengthen our ties. \nAll are welcome to come\, enjoy coffee and make connections. \nWhen: Every 1st & 3rd Thursday of the month\nWhere: Yampa Building\, 775 Yampa Ave\, Craig\nTime: 9:30 – 10:30 AM \nUnitedWayoftheYampaValley.org/gather
URL:https://loveincyampavalley.org/event/gather-coffee-community-conversation/2025-05-01/
LOCATION:United Way of the Yampa Valley  – Yampa Building\, 775 Yampa Ave\, Craig\, CO\, 81625\, United States
ATTACH;FMTTYPE=image/jpeg:https://loveincyampavalley.org/wp-content/uploads/2025/02/LoveINCYampa_Events_3.jpg
END:VEVENT
BEGIN:VEVENT
DTSTART;TZID=America/Denver:20250417T093000
DTEND;TZID=America/Denver:20250417T103000
DTSTAMP:20260419T074719
CREATED:20250224T065934Z
LAST-MODIFIED:20250224T065934Z
UID:10000211-1744882200-1744885800@loveincyampavalley.org
SUMMARY:Gather - Coffee\, Community & Conversation
DESCRIPTION:The GATHER program is designed to bring friends\, neighbors\, and more importantly\, the community together to reconnect and strengthen our ties. \nAll are welcome to come\, enjoy coffee and make connections. \nWhen: Every 1st & 3rd Thursday of the month\nWhere: Yampa Building\, 775 Yampa Ave\, Craig\nTime: 9:30 – 10:30 AM \nUnitedWayoftheYampaValley.org/gather
URL:https://loveincyampavalley.org/event/gather-coffee-community-conversation-2/2025-04-17/
LOCATION:United Way of the Yampa Valley  – Yampa Building\, 775 Yampa Ave\, Craig\, CO\, 81625\, United States
ATTACH;FMTTYPE=image/jpeg:https://loveincyampavalley.org/wp-content/uploads/2025/02/LoveINCYampa_Events_3.jpg
END:VEVENT
BEGIN:VEVENT
DTSTART;TZID=America/Denver:20250403T093000
DTEND;TZID=America/Denver:20250403T103000
DTSTAMP:20260419T074719
CREATED:20250224T065659Z
LAST-MODIFIED:20250224T065659Z
UID:10000185-1743672600-1743676200@loveincyampavalley.org
SUMMARY:Gather - Coffee\, Community & Conversation
DESCRIPTION:The GATHER program is designed to bring friends\, neighbors\, and more importantly\, the community together to reconnect and strengthen our ties. \nAll are welcome to come\, enjoy coffee and make connections. \nWhen: Every 1st & 3rd Thursday of the month\nWhere: Yampa Building\, 775 Yampa Ave\, Craig\nTime: 9:30 – 10:30 AM \nUnitedWayoftheYampaValley.org/gather
URL:https://loveincyampavalley.org/event/gather-coffee-community-conversation/2025-04-03/
LOCATION:United Way of the Yampa Valley  – Yampa Building\, 775 Yampa Ave\, Craig\, CO\, 81625\, United States
ATTACH;FMTTYPE=image/jpeg:https://loveincyampavalley.org/wp-content/uploads/2025/02/LoveINCYampa_Events_3.jpg
END:VEVENT
BEGIN:VEVENT
DTSTART;TZID=America/Denver:20250320T093000
DTEND;TZID=America/Denver:20250320T103000
DTSTAMP:20260419T074719
CREATED:20250224T065934Z
LAST-MODIFIED:20250224T065934Z
UID:10000210-1742463000-1742466600@loveincyampavalley.org
SUMMARY:Gather - Coffee\, Community & Conversation
DESCRIPTION:The GATHER program is designed to bring friends\, neighbors\, and more importantly\, the community together to reconnect and strengthen our ties. \nAll are welcome to come\, enjoy coffee and make connections. \nWhen: Every 1st & 3rd Thursday of the month\nWhere: Yampa Building\, 775 Yampa Ave\, Craig\nTime: 9:30 – 10:30 AM \nUnitedWayoftheYampaValley.org/gather
URL:https://loveincyampavalley.org/event/gather-coffee-community-conversation-2/2025-03-20/
LOCATION:United Way of the Yampa Valley  – Yampa Building\, 775 Yampa Ave\, Craig\, CO\, 81625\, United States
ATTACH;FMTTYPE=image/jpeg:https://loveincyampavalley.org/wp-content/uploads/2025/02/LoveINCYampa_Events_3.jpg
END:VEVENT
BEGIN:VEVENT
DTSTART;TZID=America/Denver:20250306T093000
DTEND;TZID=America/Denver:20250306T103000
DTSTAMP:20260419T074719
CREATED:20250224T065659Z
LAST-MODIFIED:20250224T065659Z
UID:10000184-1741253400-1741257000@loveincyampavalley.org
SUMMARY:Gather - Coffee\, Community & Conversation
DESCRIPTION:The GATHER program is designed to bring friends\, neighbors\, and more importantly\, the community together to reconnect and strengthen our ties. \nAll are welcome to come\, enjoy coffee and make connections. \nWhen: Every 1st & 3rd Thursday of the month\nWhere: Yampa Building\, 775 Yampa Ave\, Craig\nTime: 9:30 – 10:30 AM \nUnitedWayoftheYampaValley.org/gather
URL:https://loveincyampavalley.org/event/gather-coffee-community-conversation/2025-03-06/
LOCATION:United Way of the Yampa Valley  – Yampa Building\, 775 Yampa Ave\, Craig\, CO\, 81625\, United States
ATTACH;FMTTYPE=image/jpeg:https://loveincyampavalley.org/wp-content/uploads/2025/02/LoveINCYampa_Events_3.jpg
END:VEVENT
BEGIN:VEVENT
DTSTART;TZID=America/Denver:20250220T093000
DTEND;TZID=America/Denver:20250220T103000
DTSTAMP:20260419T074719
CREATED:20250224T065934Z
LAST-MODIFIED:20250224T065934Z
UID:10000209-1740043800-1740047400@loveincyampavalley.org
SUMMARY:Gather - Coffee\, Community & Conversation
DESCRIPTION:The GATHER program is designed to bring friends\, neighbors\, and more importantly\, the community together to reconnect and strengthen our ties. \nAll are welcome to come\, enjoy coffee and make connections. \nWhen: Every 1st & 3rd Thursday of the month\nWhere: Yampa Building\, 775 Yampa Ave\, Craig\nTime: 9:30 – 10:30 AM \nUnitedWayoftheYampaValley.org/gather
URL:https://loveincyampavalley.org/event/gather-coffee-community-conversation-2/2025-02-20/
LOCATION:United Way of the Yampa Valley  – Yampa Building\, 775 Yampa Ave\, Craig\, CO\, 81625\, United States
ATTACH;FMTTYPE=image/jpeg:https://loveincyampavalley.org/wp-content/uploads/2025/02/LoveINCYampa_Events_3.jpg
END:VEVENT
BEGIN:VEVENT
DTSTART;TZID=America/Denver:20250218T180000
DTEND;TZID=America/Denver:20250218T193000
DTSTAMP:20260419T074719
CREATED:20250224T043648Z
LAST-MODIFIED:20250224T043648Z
UID:10000069-1739901600-1739907000@loveincyampavalley.org
SUMMARY:Legacy Planning Series
DESCRIPTION:United Way of the Yampa Valley Presents:\nLegacy Planning Series \nLegacy planning is the process of preparing how you will leave your assets and convey your wishes to your loved ones following your passing. \nTuesday\, November 19th\n6-7:30 PM\nYampa Building – 775 Yampa Ave\, Craig \nNovember 19\, 2024 – Financial Planning & Funeral Planning\nBank of Colorado & Grant Mortuary \nJanuary 21\, 2025 – End of Life Care & Insurance \nFebruary 18\, 2025 – Trust vs Will \nTo Register: unitedwayoftheyampavalleydonate.kindful.com/register/legacy-planning-\nLimited space is available\, registration is required to attend. \nFor more information: 970-879-5605 ext 105
URL:https://loveincyampavalley.org/event/legacy-planning-series-2/
LOCATION:United Way of the Yampa Valley  – Yampa Building\, 775 Yampa Ave\, Craig\, CO\, 81625\, United States
END:VEVENT
BEGIN:VEVENT
DTSTART;TZID=America/Denver:20250206T093000
DTEND;TZID=America/Denver:20250206T103000
DTSTAMP:20260419T074719
CREATED:20250224T065659Z
LAST-MODIFIED:20250224T065659Z
UID:10000183-1738834200-1738837800@loveincyampavalley.org
SUMMARY:Gather - Coffee\, Community & Conversation
DESCRIPTION:The GATHER program is designed to bring friends\, neighbors\, and more importantly\, the community together to reconnect and strengthen our ties. \nAll are welcome to come\, enjoy coffee and make connections. \nWhen: Every 1st & 3rd Thursday of the month\nWhere: Yampa Building\, 775 Yampa Ave\, Craig\nTime: 9:30 – 10:30 AM \nUnitedWayoftheYampaValley.org/gather
URL:https://loveincyampavalley.org/event/gather-coffee-community-conversation/2025-02-06/
LOCATION:United Way of the Yampa Valley  – Yampa Building\, 775 Yampa Ave\, Craig\, CO\, 81625\, United States
ATTACH;FMTTYPE=image/jpeg:https://loveincyampavalley.org/wp-content/uploads/2025/02/LoveINCYampa_Events_3.jpg
END:VEVENT
BEGIN:VEVENT
DTSTART;TZID=America/Denver:20250121T180000
DTEND;TZID=America/Denver:20250121T193000
DTSTAMP:20260419T074719
CREATED:20250224T043616Z
LAST-MODIFIED:20250224T152321Z
UID:10000068-1737482400-1737487800@loveincyampavalley.org
SUMMARY:Legacy Planning Series
DESCRIPTION:United Way of the Yampa Valley Presents:\nLegacy Planning Series \nLegacy planning is the process of preparing how you will leave your assets and convey your wishes to your loved ones following your passing. \nTuesday\, November 19th\n6-7:30 PM\nYampa Building – 775 Yampa Ave\, Craig \nNovember 19\, 2024 – Financial Planning & Funeral Planning\nBank of Colorado & Grant Mortuary \nJanuary 21\, 2025 – End of Life Care & Insurance \nFebruary 18\, 2025 – Trust vs Will \nTo Register: unitedwayoftheyampavalleydonate.kindful.com/register/legacy-planning-\nLimited space is available\, registration is required to attend. \nFor more information: 970-879-5605 ext 105
URL:https://loveincyampavalley.org/event/legacy-planning-series/
LOCATION:United Way of the Yampa Valley  – Yampa Building\, 775 Yampa Ave\, Craig\, CO\, 81625\, United States
ATTACH;FMTTYPE=image/jpeg:https://loveincyampavalley.org/wp-content/uploads/2025/02/LoveINCYampa_Events_12.jpg
END:VEVENT
END:VCALENDAR